BEGIN:VCALENDAR
PRODID:-//eluceo/ical//2.0/EN
VERSION:2.0
CALSCALE:GREGORIAN
BEGIN:VEVENT
UID:4a480467f77a52c86a87399a9e7651dd
DTSTAMP:20260422T210510Z
SUMMARY:7:30p - Hadassah Book Club - TBA
DESCRIPTION:The Knoxville Jewish Alliance\nThe Knoxville Jewish Alliance Ca
 lendar\nhttps://jewishknoxville.org/calendar/0730-pm-hadassah-book-club--t
 ba\n\nThe book discussed will be The Diving Bell and the Butterfly by Je
 an-Dominique Bauby. Contact Barbara Mintz at barbara@bmintz.com  for u
 pdates on location. 
DTSTART;TZID=America/New_York:20201215T193000
DTEND;TZID=America/New_York:20201215T203000
END:VEVENT
END:VCALENDAR
