BEGIN:VCALENDAR
PRODID:-//eluceo/ical//2.0/EN
VERSION:2.0
CALSCALE:GREGORIAN
BEGIN:VEVENT
UID:4926e5bed51560650229172eda6e9e2a
DTSTAMP:20260423T193950Z
SUMMARY:1-2p Passover Study Session-HA
DESCRIPTION:The Knoxville Jewish Alliance\nThe Knoxville Jewish Alliance Ca
 lendar\nhttps://jewishknoxville.org/calendar/1-2p-sisterhood-passover-disc
 ussion-ha\n\nEveryone welcome to join Sisterhood\, at Heska Amuna Synagogu
 e\, Saturday\, April 16th\, after services\, for a fascinating discussion 
 on the Haggadah\, Passover\, its origins\, changes\, and significance in a
 ncient and modern times.  Join us for Kiddush\, approx. noon with learnin
 g session from 1:00pm to 2:00pm . Contact Peggy Littmann with any question
 s  plittmann@comcast.net\, or cell 865 776-1013. Please RSVP to Peggy (so
  we have enough food)
DTSTART;TZID=America/New_York:20160416T130000
DTEND;TZID=America/New_York:20160416T140000
END:VEVENT
END:VCALENDAR
