BEGIN:VCALENDAR
PRODID:-//eluceo/ical//2.0/EN
VERSION:2.0
CALSCALE:GREGORIAN
BEGIN:VEVENT
UID:3af9a6e4d18d69c2a4c4ba92aa907c6c
DTSTAMP:20260422T042146Z
SUMMARY:10-11:30a B'Yachad-HA
DESCRIPTION:The Knoxville Jewish Alliance\nThe Knoxville Jewish Alliance Ca
 lendar\nhttps://jewishknoxville.org/calendar/10-1130a-byachad-kjds-this-mo
 nth-290034\n\nB'Yachad\, a free program for preschool aged children\, wil
 l be at Heska Amuna Synagogue this month.
DTSTART;TZID=America/New_York:20181111T100000
DTEND;TZID=America/New_York:20181111T113000
END:VEVENT
END:VCALENDAR
