BEGIN:VCALENDAR
PRODID:-//eluceo/ical//2.0/EN
VERSION:2.0
CALSCALE:GREGORIAN
BEGIN:VEVENT
UID:a3ae71c6c80827cb8f6be8e90bf61666
DTSTAMP:20260422T084623Z
SUMMARY:10-11:30a Gan K'Tan-HA
DESCRIPTION:The Knoxville Jewish Alliance\nThe Knoxville Jewish Alliance Ca
 lendar\nhttps://jewishknoxville.org/calendar/10-1130a-gan-ktan-ha111\n\n10
 -11:30 Gan K'tan for toddlers and parents
DTSTART;TZID=America/New_York:20160306T100000
DTEND;TZID=America/New_York:20160306T113000
END:VEVENT
END:VCALENDAR
