BEGIN:VCALENDAR
PRODID:-//eluceo/ical//2.0/EN
VERSION:2.0
CALSCALE:GREGORIAN
BEGIN:VEVENT
UID:1ac9d539c65daf5a48354c06d9df65e1
DTSTAMP:20260421T225447Z
SUMMARY:10-3 Heska Amuna Picnic-HA
DESCRIPTION:The Knoxville Jewish Alliance\nThe Knoxville Jewish Alliance Ca
 lendar\nhttps://jewishknoxville.org/calendar/10-3-heska-amuna-picnic-ha-31
 1555\n\nJoin us in the large pavilian in The Cove at Concord Park!
DTSTART;TZID=America/New_York:20190804T100000
DTEND;TZID=America/New_York:20190804T150000
END:VEVENT
END:VCALENDAR
