BEGIN:VCALENDAR
PRODID:-//eluceo/ical//2.0/EN
VERSION:2.0
CALSCALE:GREGORIAN
BEGIN:VEVENT
UID:4ff4e3ffbea168690ffa6e77cd4240d0
DTSTAMP:20260423T153008Z
SUMMARY:10-6 Global Day of Jewish Learning-HA
DESCRIPTION:The Knoxville Jewish Alliance\nThe Knoxville Jewish Alliance Ca
 lendar\nhttps://jewishknoxville.org/calendar/10-6-global-day-of-jewish-lea
 rning-ha-367455\n\nHeska Amuna is joining this international annual event
  which will be held digitally this year with a different topic and speaker
  each hour. See Nu News\, KJA Newsletter\, or contact the Heska Amuna offi
 ce 865-522-0701 to get the link.
DTSTART;TZID=America/New_York:20201108T100000
DTEND;TZID=America/New_York:20201108T190000
END:VEVENT
END:VCALENDAR
