BEGIN:VCALENDAR
PRODID:-//eluceo/ical//2.0/EN
VERSION:2.0
CALSCALE:GREGORIAN
BEGIN:VEVENT
UID:9063e3799d19384963f5d2f319b60989
DTSTAMP:20260423T053137Z
SUMMARY:10 a.m. - 4 p.m. - Alzheimer's Training - AJCC Archives Room
DESCRIPTION:The Knoxville Jewish Alliance\nThe Knoxville Jewish Alliance Ca
 lendar\nhttps://jewishknoxville.org/calendar/10-am-4-pm--alzheimers-traini
 ng---ajcc-archives-room-203426\n\nAlzheimer's Training
DTSTART;TZID=America/New_York:20160817T100000
DTEND;TZID=America/New_York:20160817T160000
END:VEVENT
END:VCALENDAR
