BEGIN:VCALENDAR
PRODID:-//eluceo/ical//2.0/EN
VERSION:2.0
CALSCALE:GREGORIAN
BEGIN:VEVENT
UID:d9722bf53ef48ea85bad5245f061e596
DTSTAMP:20260422T210405Z
SUMMARY:1:00 - 2:00 p.m. - Beginner Sign Language - AJCC Orwitz Room
DESCRIPTION:The Knoxville Jewish Alliance\nThe Knoxville Jewish Alliance Ca
 lendar\nhttps://jewishknoxville.org/calendar/100-200-pm--beginner-sign-lan
 guage---ajcc-orwitz-room-207907\n\nBeginner Sign Language
DTSTART;TZID=America/New_York:20161102T130000
DTEND;TZID=America/New_York:20161102T140000
END:VEVENT
END:VCALENDAR
