BEGIN:VCALENDAR
PRODID:-//eluceo/ical//2.0/EN
VERSION:2.0
CALSCALE:GREGORIAN
BEGIN:VEVENT
UID:fa8fb4ec12cfd889ba34c9c54070cfe5
DTSTAMP:20260420T051925Z
SUMMARY:1:00 3:00 p.m. - MCDC Fun Day Gaga Tournament & Dance Party-AJCC Ca
 ller Aud
DESCRIPTION:The Knoxville Jewish Alliance\nThe Knoxville Jewish Alliance Ca
 lendar\nhttps://jewishknoxville.org/calendar/100-300-pm--mcdc-fun-day-gaga
 -250296\n\nMCDC Fun Day\n\nGaga Tournament\n\nDance Party
DTSTART;TZID=America/New_York:20171105T130000
DTEND;TZID=America/New_York:20171105T150000
END:VEVENT
END:VCALENDAR
