BEGIN:VCALENDAR
PRODID:-//eluceo/ical//2.0/EN
VERSION:2.0
CALSCALE:GREGORIAN
BEGIN:VEVENT
UID:9307aa7d9607158994329c8627635547
DTSTAMP:20260423T191501Z
SUMMARY:1 - 3p - Pickleball - AJCC Gym
DESCRIPTION:The Knoxville Jewish Alliance\nThe Knoxville Jewish Alliance Ca
 lendar\nhttps://jewishknoxville.org/calendar/100-300-pm--pickleball---ajcc
 -gym2-185160\n\nPickleball
DTSTART;TZID=America/New_York:20160417T130000
DTEND;TZID=America/New_York:20160417T150000
END:VEVENT
END:VCALENDAR
