BEGIN:VCALENDAR
PRODID:-//eluceo/ical//2.0/EN
VERSION:2.0
CALSCALE:GREGORIAN
BEGIN:VEVENT
UID:0f3916b98d4b35ed5489788823734baf
DTSTAMP:20260423T205143Z
SUMMARY:Noon - 3:00 p.m. - Pickleball - AJCC Gym
DESCRIPTION:The Knoxville Jewish Alliance\nThe Knoxville Jewish Alliance Ca
 lendar\nhttps://jewishknoxville.org/calendar/100-300-pm--pickleball---ajcc
 -gym2017-217903\n\nBeginner Clinic Noon - 1:00 p.m.\n\nOpen Play 1:00 p.m.
  - 3:00 p.m.
DTSTART;TZID=America/New_York:20170108T120000
DTEND;TZID=America/New_York:20170108T150000
END:VEVENT
END:VCALENDAR
