BEGIN:VCALENDAR
PRODID:-//eluceo/ical//2.0/EN
VERSION:2.0
CALSCALE:GREGORIAN
BEGIN:VEVENT
UID:2eaccc5ddecffb9c1ccacbd19e30a382
DTSTAMP:20260423T053127Z
SUMMARY:1:00 - 3:00 p.m. - Pickleball Open Play - AJCC Caller Auditorium
DESCRIPTION:The Knoxville Jewish Alliance\nThe Knoxville Jewish Alliance Ca
 lendar\nhttps://jewishknoxville.org/calendar/100-300-pm--pickleball-open-p
 lay---ajcc-caller-auditorium13-284035\n\nPickleball Open Play @ the AJCC\n
 \n1:00 - 3:00 p.m.
DTSTART;TZID=America/New_York:20180902T130000
DTEND;TZID=America/New_York:20180902T150000
END:VEVENT
END:VCALENDAR
