BEGIN:VCALENDAR
PRODID:-//eluceo/ical//2.0/EN
VERSION:2.0
CALSCALE:GREGORIAN
BEGIN:VEVENT
UID:c071c8054f5cf0e4c914f8f3d45e74af
DTSTAMP:20260422T194828Z
SUMMARY:1:00 - 3:00 p.m. - Winick AZA Wash & Schmear - AJCC Parking Lot
DESCRIPTION:The Knoxville Jewish Alliance\nThe Knoxville Jewish Alliance Ca
 lendar\nhttps://jewishknoxville.org/calendar/100-300-pm--winick-aza-wash--
 schmear---ajcc-parking-lot-222280\n\nWinick AZA Annual Fundraiser\n\nCar W
 ash & Schmear
DTSTART;TZID=America/New_York:20170430T130000
DTEND;TZID=America/New_York:20170430T150000
END:VEVENT
END:VCALENDAR
