BEGIN:VCALENDAR
PRODID:-//eluceo/ical//2.0/EN
VERSION:2.0
CALSCALE:GREGORIAN
BEGIN:VEVENT
UID:0e2a08438d862eec3e448e3ac492ea7f
DTSTAMP:20260426T005636Z
SUMMARY:1-3p Pickleball - AJCC Gym
DESCRIPTION:The Knoxville Jewish Alliance\nThe Knoxville Jewish Alliance Ca
 lendar\nhttps://jewishknoxville.org/calendar/100-300-pm-pickleball--ajcc-g
 ym-182611\n\nPickleball at the AJCC Gym
DTSTART;TZID=America/New_York:20160313T130000
DTEND;TZID=America/New_York:20160313T150000
END:VEVENT
END:VCALENDAR
