BEGIN:VCALENDAR
PRODID:-//eluceo/ical//2.0/EN
VERSION:2.0
CALSCALE:GREGORIAN
BEGIN:VEVENT
UID:e5b135a4c4030274ddec758ff45cdf77
DTSTAMP:20260424T165245Z
SUMMARY:1:00-3:00 p.m. - Pickleball Open Play - AJCC Caller Auditorium
DESCRIPTION:The Knoxville Jewish Alliance\nThe Knoxville Jewish Alliance Ca
 lendar\nhttps://jewishknoxville.org/calendar/100-300-pm-pickleball-open-pl
 ay--ajcc-caller-auditoriumoct18-287552\n\nPickleball Open Play\n\n1:00 - 3
 :00 p.m.
DTSTART;TZID=America/New_York:20181007T130000
DTEND;TZID=America/New_York:20181007T150000
END:VEVENT
END:VCALENDAR
