BEGIN:VCALENDAR
PRODID:-//eluceo/ical//2.0/EN
VERSION:2.0
CALSCALE:GREGORIAN
BEGIN:VEVENT
UID:d8fe5b0b3c43a3ea51488024b91ad250
DTSTAMP:20260419T172206Z
SUMMARY:1:00 - 3:30 p.m. - Campus Master Plan Meeting - AJCC  Orwitz Rm 217
DESCRIPTION:The Knoxville Jewish Alliance\nThe Knoxville Jewish Alliance Ca
 lendar\nhttps://jewishknoxville.org/calendar/100-330-pm--campus-master-pla
 n-meeting---ajcc--orwitz-rm-217-344838\n\n1:00 - 3:30 p.m. - Campus Master
  Plan Meeting - AJCC  Orwitz Rm 217
DTSTART;TZID=America/New_York:20200306T010000
DTEND;TZID=America/New_York:20200306T033000
END:VEVENT
END:VCALENDAR
