BEGIN:VCALENDAR
PRODID:-//eluceo/ical//2.0/EN
VERSION:2.0
CALSCALE:GREGORIAN
BEGIN:VEVENT
UID:7a1bd7c6eb0227717839420c8db5afc1
DTSTAMP:20260425T162606Z
SUMMARY:1:00-3:30 PM STEAM Into Service Field Trip-KJDS
DESCRIPTION:The Knoxville Jewish Alliance\nThe Knoxville Jewish Alliance Ca
 lendar\nhttps://jewishknoxville.org/calendar/100-330-pm-steam-into-service
 -field-trip-kjds\n\nOur STEAM Into Service class is visiting local busines
 ses with alternative energy 
DTSTART;TZID=America/New_York:20170920T130000
DTEND;TZID=America/New_York:20170920T153000
END:VEVENT
END:VCALENDAR
