BEGIN:VCALENDAR
PRODID:-//eluceo/ical//2.0/EN
VERSION:2.0
CALSCALE:GREGORIAN
BEGIN:VEVENT
UID:2b713b837c1f661f9c2a8d4212d156fd
DTSTAMP:20260423T070134Z
SUMMARY:1:00 - 4:00 p.m. - Decorate the Sukkah - AJCC Sukkah
DESCRIPTION:The Knoxville Jewish Alliance\nThe Knoxville Jewish Alliance Ca
 lendar\nhttps://jewishknoxville.org/calendar/100-400-pm--decorate-the-sukk
 ah---ajcc-sukkah-199409\n\nCome and help decorate the AJCC Sukkah
DTSTART;TZID=America/New_York:20161016T130000
DTEND;TZID=America/New_York:20161016T160000
END:VEVENT
END:VCALENDAR
