BEGIN:VCALENDAR
PRODID:-//eluceo/ical//2.0/EN
VERSION:2.0
CALSCALE:GREGORIAN
BEGIN:VEVENT
UID:e5aa1fcbf1681bb6df86523c2e0e21ee
DTSTAMP:20260422T183104Z
SUMMARY:1:00 - 4:00 p.m. - MCDC Staff Orientation and Camp Setup - AJCC Gym
DESCRIPTION:The Knoxville Jewish Alliance\nThe Knoxville Jewish Alliance Ca
 lendar\nhttps://jewishknoxville.org/calendar/100-400-pm--mcdc-staff-orient
 ation-and-camp-setup---ajcc-gym-228941\n\nMCDC Staff Orientation\n\nMCDC C
 amp Building Set Up
DTSTART;TZID=America/New_York:20170528T130000
DTEND;TZID=America/New_York:20170528T160000
END:VEVENT
END:VCALENDAR
