BEGIN:VCALENDAR
PRODID:-//eluceo/ical//2.0/EN
VERSION:2.0
CALSCALE:GREGORIAN
BEGIN:VEVENT
UID:ab1f74696fb23b6cf97ca072b078f4a5
DTSTAMP:20260422T042205Z
SUMMARY:1:00 - 4:00 pm. - Summer Camp Training - AJCC Orwitz Room 217
DESCRIPTION:The Knoxville Jewish Alliance\nThe Knoxville Jewish Alliance Ca
 lendar\nhttps://jewishknoxville.org/calendar/100-400-pm--summer-camp-train
 ing---ajcc-orwitz-room-217-308133\n\n1:00 - 4:00 pm. - Summer Camp Trainin
 g - AJCC Orwitz Room 217
DTSTART;TZID=America/New_York:20190519T130000
DTEND;TZID=America/New_York:20190519T160000
END:VEVENT
END:VCALENDAR
