BEGIN:VCALENDAR
PRODID:-//eluceo/ical//2.0/EN
VERSION:2.0
CALSCALE:GREGORIAN
BEGIN:VEVENT
UID:e327e999eaf9f8409c6d925c18ee42a2
DTSTAMP:20260424T035231Z
SUMMARY:1:00 p.m. - Hadassah Cuban Mission Trip Reception - AJCC Orwitz Roo
 m
DESCRIPTION:The Knoxville Jewish Alliance\nThe Knoxville Jewish Alliance Ca
 lendar\nhttps://jewishknoxville.org/calendar/100-pm-hadassah-cuban-mission
 -trip-reception--ajcc-orwitz-room-231734\n\nHadassah Cuban Mission Trip Re
 ception
DTSTART;TZID=America/New_York:20170813T130000
DTEND;TZID=America/New_York:20170813T160000
END:VEVENT
END:VCALENDAR
