BEGIN:VCALENDAR
PRODID:-//eluceo/ical//2.0/EN
VERSION:2.0
CALSCALE:GREGORIAN
BEGIN:VEVENT
UID:b9933f03da3089877ca8626e41f393bd
DTSTAMP:20260425T020534Z
SUMMARY:1:00 p.m. -  KJA 2019 Annual Meeting - AJCC Caller Auditorium
DESCRIPTION:The Knoxville Jewish Alliance\nThe Knoxville Jewish Alliance Ca
 lendar\nhttps://jewishknoxville.org/calendar/100-pm-kja-2019-annual-meetin
 g---ajcc-caller-auditorium-313878\n\nKnoxville Jewish Alliance Annual Meet
 ing\n\nSunday\, December 8 -- 1:00 p.m.\n\n(Please note the new time!)\n\n
 AJCC Caller Auditorium\n\nLight refreshments will be served\n\n \n\nMembe
 rs will learn about KJA activities and projects\n\nand elect the 2020 KJA 
 Board of Directors.\n\n \n\nReminder: To vote at the Annual Meeting\, you
  must be a member in good standing. KJA members includes annual ca...
DTSTART;TZID=America/New_York:20191208T130000
DTEND;TZID=America/New_York:20191208T143000
END:VEVENT
END:VCALENDAR
