BEGIN:VCALENDAR
PRODID:-//eluceo/ical//2.0/EN
VERSION:2.0
CALSCALE:GREGORIAN
BEGIN:VEVENT
UID:e38580ff476c286f0c8129e1f57e4009
DTSTAMP:20260421T153817Z
SUMMARY:1\;00 p.m. - Menorah Madness 2016- Market Square Skating Rink - Dow
 ntown
DESCRIPTION:The Knoxville Jewish Alliance\nThe Knoxville Jewish Alliance Ca
 lendar\nhttps://jewishknoxville.org/calendar/100-pm-menorah-madness-2016-m
 arket-square-skating-rink---downtown-215749\n\nChabad of Knoxville and the
  Knoxville Jewish Alliance present Menorah Madness 2016 at the Market Squa
 re Skating Rink in downtown Knoxville. Monday\, December 26\, 1:00 PM. Thi
 s event features an ice menorah candle lighting\, sizzling hot latkes\, an
 d skating to Chanukah music.\n\n \n\nProgram admission: Free.  Mention "
 Menorah Madness" and get $2.00 off ice skating.\n\n2016 Menorah Madness
DTSTART;TZID=America/New_York:20161226T130000
DTEND;TZID=America/New_York:20161226T160000
END:VEVENT
END:VCALENDAR
