BEGIN:VCALENDAR
PRODID:-//eluceo/ical//2.0/EN
VERSION:2.0
CALSCALE:GREGORIAN
BEGIN:VEVENT
UID:abc9f9d02c5b386d22b2630f906ce44d
DTSTAMP:20260422T072201Z
SUMMARY:1:00 p.m. - UTK Hillel and AEPi Rosh Hashanah Lunch - AEPi House on
  Campus
DESCRIPTION:The Knoxville Jewish Alliance\nThe Knoxville Jewish Alliance Ca
 lendar\nhttps://jewishknoxville.org/calendar/100-pm-utk-hillel-and-aepi-ro
 sh-hashanah-lunch--aepi-house-on-campus-246704\n\nUTK Hillel and AEPi Rosh
  Hashanah Lunch\n\nAEPi House on Campus
DTSTART;TZID=America/New_York:20170921T000000
DTEND;TZID=America/New_York:20170921T020000
END:VEVENT
END:VCALENDAR
