BEGIN:VCALENDAR
PRODID:-//eluceo/ical//2.0/EN
VERSION:2.0
CALSCALE:GREGORIAN
BEGIN:VEVENT
UID:d69d3edf84e0b9d1245cd0d035674f56
DTSTAMP:20260423T122905Z
SUMMARY:10:00 a.m. - Generation B Brunch and Eclipse Lecture - AJCC Orwitz 
 Room
DESCRIPTION:The Knoxville Jewish Alliance\nThe Knoxville Jewish Alliance Ca
 lendar\nhttps://jewishknoxville.org/calendar/1000-am-generation-b-brunch-a
 nd-eclipse-lecture--ajcc-orwitz-room-241654\n\nGeneration B Brunch\n\nRSVP
  LBerry@jewishknoxville.org
DTSTART;TZID=America/New_York:20170813T100000
DTEND;TZID=America/New_York:20170813T120000
END:VEVENT
END:VCALENDAR
