BEGIN:VCALENDAR
PRODID:-//eluceo/ical//2.0/EN
VERSION:2.0
CALSCALE:GREGORIAN
BEGIN:VEVENT
UID:389eff0a860d6b712be1a7429a2e8396
DTSTAMP:20260421T104538Z
SUMMARY:10:00 a.m. - MLK Parade (Line-up at 8:30 a.m.-YWCA Phyllis Wheatley
  Center)
DESCRIPTION:The Knoxville Jewish Alliance\nThe Knoxville Jewish Alliance Ca
 lendar\nhttps://jewishknoxville.org/calendar/1000-am-mlk-parade-line-up-at
 -830-am--ywca-phyllis-wheatley-center-215579\n\n                 
  Families and singles needed to join the best Martin Luther King Jewish pa
 rade marchers\n\nwith the KJA banner!\n\n \n\n             
                                      
    Honoring the Dream by Standing for Justice and Equality\n\n \n\nML
 K MEMORIAL PARADE\n\nMonday\, January 16\n\nLine-up will be at 8:30AM\n\nS
 tep-off will be at 10:00AM from the\n\nYWCA Phyllis Wheatley Center\, 124 
 S. Cruze Street\, 37915\n\nThe ...
DTSTART;TZID=America/New_York:20170116T100000
DTEND;TZID=America/New_York:20170116T235959
END:VEVENT
END:VCALENDAR
