BEGIN:VCALENDAR
PRODID:-//eluceo/ical//2.0/EN
VERSION:2.0
CALSCALE:GREGORIAN
BEGIN:VEVENT
UID:8753fbe1686a178bb1643591a11a3f68
DTSTAMP:20260424T031240Z
SUMMARY:10:00a - HA - Sukkah build
DESCRIPTION:The Knoxville Jewish Alliance\nThe Knoxville Jewish Alliance Ca
 lendar\nhttps://jewishknoxville.org/calendar/1000a---ha---sukkah-build-150
 5485941\n\nJoin us as we build and decorate the sukkah.
DTSTART;TZID=America/New_York:20171001T100000
DTEND;TZID=America/New_York:20171001T125500
END:VEVENT
END:VCALENDAR
