BEGIN:VCALENDAR
PRODID:-//eluceo/ical//2.0/EN
VERSION:2.0
CALSCALE:GREGORIAN
BEGIN:VEVENT
UID:b9a0bb251a07f325fd1de9ad0bc0758f
DTSTAMP:20260422T194305Z
SUMMARY:10:00a-11:00a - HA - B'Yachad
DESCRIPTION:The Knoxville Jewish Alliance\nThe Knoxville Jewish Alliance Ca
 lendar\nhttps://jewishknoxville.org/calendar/1000a-1100a---ha---byachad-15
 08355774\n\nPlease join us for B'Yachad at Heska Amuna this semester! (for
 merly Gan K'Tan).  All children in our community aged 4 and under are welc
 ome!
DTSTART;TZID=America/New_York:20180422T100000
DTEND;TZID=America/New_York:20180422T110000
END:VEVENT
END:VCALENDAR
