BEGIN:VCALENDAR
PRODID:-//eluceo/ical//2.0/EN
VERSION:2.0
CALSCALE:GREGORIAN
BEGIN:VEVENT
UID:196de60bb60db8f1ec3bed1388e11e0b
DTSTAMP:20260424T141221Z
SUMMARY:10:00a-11:00p - HA - B'Yachad
DESCRIPTION:The Knoxville Jewish Alliance\nThe Knoxville Jewish Alliance Ca
 lendar\nhttps://jewishknoxville.org/calendar/1000a-1100p---ha---byachad-15
 08355495\n\nPlease join us for B'Yachad at Heska Amuna this semester! (for
 merly Gan K'Tan).  All children in our community aged 4 and under are welc
 ome!
DTSTART;TZID=America/New_York:20180121T100000
DTEND;TZID=America/New_York:20180121T110000
END:VEVENT
END:VCALENDAR
