BEGIN:VCALENDAR
PRODID:-//eluceo/ical//2.0/EN
VERSION:2.0
CALSCALE:GREGORIAN
BEGIN:VEVENT
UID:c7c3b711aeeba9c1691efa5d883f6715
DTSTAMP:20260422T115700Z
SUMMARY:10:00a Torah Study/Adult Education - TBE
DESCRIPTION:The Knoxville Jewish Alliance\nThe Knoxville Jewish Alliance Ca
 lendar\nhttps://jewishknoxville.org/calendar/1000a-torah-studyadult-educat
 ion-tbe-2025-26\n\n10:00am Torah Study/Adult Education
DTSTART;TZID=America/New_York:20250703T100000
DTEND;TZID=America/New_York:20250703T110000
END:VEVENT
END:VCALENDAR
