BEGIN:VCALENDAR
PRODID:-//eluceo/ical//2.0/EN
VERSION:2.0
CALSCALE:GREGORIAN
BEGIN:VEVENT
UID:6dea127ce25531c329d127945076c872
DTSTAMP:20260423T160406Z
SUMMARY:10:00am Contemporary Shabbat Service-HAS
DESCRIPTION:The Knoxville Jewish Alliance\nThe Knoxville Jewish Alliance Ca
 lendar\nhttps://jewishknoxville.org/calendar/1000am-contemporary-shabbat-s
 ervice-has\n\nJoin Rabbi Shush Carson for our Contemproary Shabbat Service
 s. Always in persnand on Zoom.
DTSTART;TZID=America/New_York:20250809T100000
DTEND;TZID=America/New_York:20250809T120000
END:VEVENT
END:VCALENDAR
