BEGIN:VCALENDAR
PRODID:-//eluceo/ical//2.0/EN
VERSION:2.0
CALSCALE:GREGORIAN
BEGIN:VEVENT
UID:293249ec75d01cdea7405a527157a23c
DTSTAMP:20260425T215329Z
SUMMARY:10:00am Contemporary/Birthday Shabbat-HAS
DESCRIPTION:The Knoxville Jewish Alliance\nThe Knoxville Jewish Alliance Ca
 lendar\nhttps://jewishknoxville.org/calendar/1000am-contemporarybirthday-s
 habbat-has321\n\nJoin Rabbi Shush for Contemporary and Birthday Shabbat Se
 rvices.\n\nIf your Birthday is in June\, join us! Special blessings!\n\nTh
 ere will also be cake served with Kiddush following Services.
DTSTART;TZID=America/New_York:20260627T100000
DTEND;TZID=America/New_York:20260627T120000
END:VEVENT
END:VCALENDAR
