BEGIN:VCALENDAR
PRODID:-//eluceo/ical//2.0/EN
VERSION:2.0
CALSCALE:GREGORIAN
BEGIN:VEVENT
UID:78ec36076ae8fc32fea0be23dc50bdbc
DTSTAMP:20260423T094347Z
SUMMARY:10:15am Yoga-JCOR
DESCRIPTION:The Knoxville Jewish Alliance\nThe Knoxville Jewish Alliance Ca
 lendar\nhttps://jewishknoxville.org/calendar/1015am-yoga-jcor-tues-108898\
 n\nThe practice of yoga makes the body strong and flexible\, it also impro
 ves the functioning of the respiratory\, circulatory\, digestive\, and hor
 monal systems. Yoga brings about emotional stability and clarity of mind.\
 n\nIn this class we will practice a blend of vinyasa and kundalini yoga\, 
 body weight conditioning\, and meditation. A steady practice of these exer
 cises over time will help balance your body and focus your mind in the pre
 sent moment. The goal is to have a more relaxed and aware\,...
DTSTART;TZID=America/New_York:20150217T101500
DTEND;TZID=America/New_York:20150217T111500
END:VEVENT
END:VCALENDAR
