BEGIN:VCALENDAR
PRODID:-//eluceo/ical//2.0/EN
VERSION:2.0
CALSCALE:GREGORIAN
BEGIN:VEVENT
UID:72ad10528b94d164af2bec6f28a38d1b
DTSTAMP:20260425T111349Z
SUMMARY:10:30a Mitzvah Day Planning Meeting-AJCC Orwitz Room
DESCRIPTION:The Knoxville Jewish Alliance\nThe Knoxville Jewish Alliance Ca
 lendar\nhttps://jewishknoxville.org/calendar/1030-am-mitzvah-day-planning-
 meeting--ajcc-orwitz-room-178564\n\nMitzvah Day Planning Meeting
DTSTART;TZID=America/New_York:20160207T103000
DTEND;TZID=America/New_York:20160207T123000
END:VEVENT
END:VCALENDAR
