BEGIN:VCALENDAR
PRODID:-//eluceo/ical//2.0/EN
VERSION:2.0
CALSCALE:GREGORIAN
BEGIN:VEVENT
UID:67509846c245dddf90a0d74cc8ac81d0
DTSTAMP:20260420T095416Z
SUMMARY:10:30a Avigail Laing Bat Mitzvah - tbe
DESCRIPTION:The Knoxville Jewish Alliance\nThe Knoxville Jewish Alliance Ca
 lendar\nhttps://jewishknoxville.org/calendar/1030a-avigail-laing-bat-mitzv
 ah-tbe-252232\n\nAvigail Laing Bat Mitzvah
DTSTART;TZID=America/New_York:20180210T103000
DTEND;TZID=America/New_York:20180210T143000
END:VEVENT
END:VCALENDAR
