BEGIN:VCALENDAR
PRODID:-//eluceo/ical//2.0/EN
VERSION:2.0
CALSCALE:GREGORIAN
BEGIN:VEVENT
UID:80037091c60d61169b6b6b4462690816
DTSTAMP:20260425T025905Z
SUMMARY:10a Hazel Wolf Bat Mitzvah - TBE
DESCRIPTION:The Knoxville Jewish Alliance\nThe Knoxville Jewish Alliance Ca
 lendar\nhttps://jewishknoxville.org/calendar/1030a-hazel-wolf-bat-mitzvah-
 tbe\n\n10am Hazel Wolf Bat mitzvah - TBE
DTSTART;TZID=America/New_York:20260110T100000
DTEND;TZID=America/New_York:20260110T123000
END:VEVENT
END:VCALENDAR
