BEGIN:VCALENDAR
PRODID:-//eluceo/ical//2.0/EN
VERSION:2.0
CALSCALE:GREGORIAN
BEGIN:VEVENT
UID:c838e04f150ad18442fbe94cc67aa9bd
DTSTAMP:20260422T183114Z
SUMMARY:10:30a Lauren Shagan Bat Mitzvah -TBE
DESCRIPTION:The Knoxville Jewish Alliance\nThe Knoxville Jewish Alliance Ca
 lendar\nhttps://jewishknoxville.org/calendar/1030a-lauren-shagan-bat-mitzv
 ah-tbe-188213\n\nLauren Shagan Bat Mitzvah
DTSTART;TZID=America/New_York:20160730T103000
DTEND;TZID=America/New_York:20160730T123000
END:VEVENT
END:VCALENDAR
