BEGIN:VCALENDAR
PRODID:-//eluceo/ical//2.0/EN
VERSION:2.0
CALSCALE:GREGORIAN
BEGIN:VEVENT
UID:52233c0ed30356a53dedc9a31b036b4c
DTSTAMP:20260423T093433Z
SUMMARY:10:30a Rosh Hashanah II-JCOR
DESCRIPTION:The Knoxville Jewish Alliance\nThe Knoxville Jewish Alliance Ca
 lendar\nhttps://jewishknoxville.org/calendar/1030a-rosh-hashanahII-jcor-10
 6525\n\nRosh Hashanah Service II\nAll High Holy Day Services at JCOR are o
 pen to the public. No tickets are needed.
DTSTART;TZID=America/New_York:20170922T103000
DTEND;TZID=America/New_York:20170922T113000
END:VEVENT
END:VCALENDAR
