BEGIN:VCALENDAR
PRODID:-//eluceo/ical//2.0/EN
VERSION:2.0
CALSCALE:GREGORIAN
BEGIN:VEVENT
UID:79b56e35e9d1aed3af0d512263ddabae
DTSTAMP:20260421T161920Z
SUMMARY:10:30a Shabbat Service/Grace Theriot Bat Mitzvah-TBE
DESCRIPTION:The Knoxville Jewish Alliance\nThe Knoxville Jewish Alliance Ca
 lendar\nhttps://jewishknoxville.org/calendar/1030a-shabbat-servicegrace-th
 eriot-bat-mitzvah-tbe-219737\n\n10:30am Shabbat Service/Grace Theriot Bat 
 Mitzvah
DTSTART;TZID=America/New_York:20170429T103000
DTEND;TZID=America/New_York:20170429T123000
END:VEVENT
END:VCALENDAR
