BEGIN:VCALENDAR
PRODID:-//eluceo/ical//2.0/EN
VERSION:2.0
CALSCALE:GREGORIAN
BEGIN:VEVENT
UID:5acff4f15d6c6a1332910a3517173ad6
DTSTAMP:20260425T204939Z
SUMMARY:10:30a Shabbat Service/Riley Goodfriend Bat Mitzvah-TBE
DESCRIPTION:The Knoxville Jewish Alliance\nThe Knoxville Jewish Alliance Ca
 lendar\nhttps://jewishknoxville.org/calendar/1030a-shabbat-serviceriley-go
 odfriend-bat-mitzvah-tbe-219728\n\n10:30am Shabbat Service/Riley Goodfrien
 d Bat Mitzvah
DTSTART;TZID=America/New_York:20170408T103000
DTEND;TZID=America/New_York:20170408T123000
END:VEVENT
END:VCALENDAR
