BEGIN:VCALENDAR
PRODID:-//eluceo/ical//2.0/EN
VERSION:2.0
CALSCALE:GREGORIAN
BEGIN:VEVENT
UID:605d3c832b4bd8047a1ec5b40a7afc09
DTSTAMP:20260424T072837Z
SUMMARY:10:30a Shabbat Service/Simone Friedman Bat Mitzvah - TBE
DESCRIPTION:The Knoxville Jewish Alliance\nThe Knoxville Jewish Alliance Ca
 lendar\nhttps://jewishknoxville.org/calendar/1030a-shabbat-servicesimone-f
 riedman-bat-mitzvah-tbe-219743\n\n10:30am Shabbat Service/Simone Friedman 
 Bat Mitzvah
DTSTART;TZID=America/New_York:20170617T103000
DTEND;TZID=America/New_York:20170617T123000
END:VEVENT
END:VCALENDAR
