BEGIN:VCALENDAR
PRODID:-//eluceo/ical//2.0/EN
VERSION:2.0
CALSCALE:GREGORIAN
BEGIN:VEVENT
UID:a9b17b8d717ddc056e52d5a3fab2b5bb
DTSTAMP:20260422T222936Z
SUMMARY:10:30am Aaron Shagan Bar Mitzvah-TBE
DESCRIPTION:The Knoxville Jewish Alliance\nThe Knoxville Jewish Alliance Ca
 lendar\nhttps://jewishknoxville.org/calendar/1030am-aaron-shagan-bar-mitzv
 ah-tbe-259599\n\nAaron Shagan Bar Mitzvah
DTSTART;TZID=America/New_York:20180609T103000
DTEND;TZID=America/New_York:20180609T123000
END:VEVENT
END:VCALENDAR
