BEGIN:VCALENDAR
PRODID:-//eluceo/ical//2.0/EN
VERSION:2.0
CALSCALE:GREGORIAN
BEGIN:VEVENT
UID:5880a46fa6a4b30bf58037a86f9ad953
DTSTAMP:20260421T174059Z
SUMMARY:10:30am Asher Park Bar Mitzvah - TBE
DESCRIPTION:The Knoxville Jewish Alliance\nThe Knoxville Jewish Alliance Ca
 lendar\nhttps://jewishknoxville.org/calendar/1030am-asher-park-bar-mitzvah
 -tbe-385250\n\n10:30am Asher Park Bar Mitzvah - TBE
DTSTART;TZID=America/New_York:20211113T103000
DTEND;TZID=America/New_York:20211113T123000
END:VEVENT
END:VCALENDAR
