BEGIN:VCALENDAR
PRODID:-//eluceo/ical//2.0/EN
VERSION:2.0
CALSCALE:GREGORIAN
BEGIN:VEVENT
UID:4606524171acbd333a9f75d396d5f126
DTSTAMP:20260422T132017Z
SUMMARY:10am Evie Braude Bat Mitzvah - TBE
DESCRIPTION:The Knoxville Jewish Alliance\nThe Knoxville Jewish Alliance Ca
 lendar\nhttps://jewishknoxville.org/calendar/1030am-evie-braude-bat-mitzva
 h-tbe-266799\n\nEvie Braude Bat Mitzvah
DTSTART;TZID=America/New_York:20190413T100000
DTEND;TZID=America/New_York:20190413T120000
END:VEVENT
END:VCALENDAR
