BEGIN:VCALENDAR
PRODID:-//eluceo/ical//2.0/EN
VERSION:2.0
CALSCALE:GREGORIAN
BEGIN:VEVENT
UID:83d3101dbf752555c19238299c9d5427
DTSTAMP:20260425T111115Z
SUMMARY:10:30am Grace Margulies Bat Mitzvah - TBE
DESCRIPTION:The Knoxville Jewish Alliance\nThe Knoxville Jewish Alliance Ca
 lendar\nhttps://jewishknoxville.org/calendar/1030am-grace-margulies-bat-mi
 tzvah-tbe-243082\n\nGrace Margulies Bat Mitzvah
DTSTART;TZID=America/New_York:20180512T103000
DTEND;TZID=America/New_York:20180512T123000
END:VEVENT
END:VCALENDAR
