BEGIN:VCALENDAR
PRODID:-//eluceo/ical//2.0/EN
VERSION:2.0
CALSCALE:GREGORIAN
BEGIN:VEVENT
UID:daf17796e90f6613750bc0e436fe36ea
DTSTAMP:20260424T165026Z
SUMMARY:10:45a Torah Tots-TBE
DESCRIPTION:The Knoxville Jewish Alliance\nThe Knoxville Jewish Alliance Ca
 lendar\nhttps://jewishknoxville.org/calendar/1045a-torah-tots-tbe-176951\n
 \nTorah Tots & Purim Carnaval!!!
DTSTART;TZID=America/New_York:20160306T104500
DTEND;TZID=America/New_York:20160306T120000
END:VEVENT
END:VCALENDAR
