BEGIN:VCALENDAR
PRODID:-//eluceo/ical//2.0/EN
VERSION:2.0
CALSCALE:GREGORIAN
BEGIN:VEVENT
UID:49419534afecd65b7a807727db035f95
DTSTAMP:20260424T034956Z
SUMMARY:10a B'yachad-HA
DESCRIPTION:The Knoxville Jewish Alliance\nThe Knoxville Jewish Alliance Ca
 lendar\nhttps://jewishknoxville.org/calendar/10a-Byachad-ha-325375\n\nJoin
  us for a fun\, free service for children under five and their parents!
DTSTART;TZID=America/New_York:20191020T100000
DTEND;TZID=America/New_York:20191020T110000
END:VEVENT
END:VCALENDAR
