BEGIN:VCALENDAR
PRODID:-//eluceo/ical//2.0/EN
VERSION:2.0
CALSCALE:GREGORIAN
BEGIN:VEVENT
UID:f94549381d490f0d306fb5f7f7740bf1
DTSTAMP:20260421T150233Z
SUMMARY:10a Adult Hebrew Classes-HA
DESCRIPTION:The Knoxville Jewish Alliance\nThe Knoxville Jewish Alliance Ca
 lendar\nhttps://jewishknoxville.org/calendar/10a-adult-hebrew-classes-ha-2
 90013\n\nThree different classes of Adult Hebrew (from Beginner to Convers
 ation) are available at 10 am most Sundays.  Contact Peggy Littmann at H
 eska Amuna for more details.
DTSTART;TZID=America/New_York:20181104T100000
DTEND;TZID=America/New_York:20181104T110000
END:VEVENT
END:VCALENDAR
