BEGIN:VCALENDAR
PRODID:-//eluceo/ical//2.0/EN
VERSION:2.0
CALSCALE:GREGORIAN
BEGIN:VEVENT
UID:9cd2331bcbf213a84f0e1c0392a8b053
DTSTAMP:20260423T184126Z
SUMMARY:10a Congregation Annual Meeting-HA
DESCRIPTION:The Knoxville Jewish Alliance\nThe Knoxville Jewish Alliance Ca
 lendar\nhttps://jewishknoxville.org/calendar/10a-congregation-annual-meeti
 ng-ha-295446\n\nJoin us for our annual meeting\, including Board reports a
 nd election.
DTSTART;TZID=America/New_York:20190602T100000
DTEND;TZID=America/New_York:20190602T120000
END:VEVENT
END:VCALENDAR
