BEGIN:VCALENDAR
PRODID:-//eluceo/ical//2.0/EN
VERSION:2.0
CALSCALE:GREGORIAN
BEGIN:VEVENT
UID:093d7f9b29ede2aa164afc1c97d03357
DTSTAMP:20260424T164746Z
SUMMARY:10a-Contemporary & Birthday Shabbat-HAS
DESCRIPTION:The Knoxville Jewish Alliance\nThe Knoxville Jewish Alliance Ca
 lendar\nhttps://jewishknoxville.org/calendar/10a-contemporary-birthday-sha
 bbat-has\n\nIf your birthday is in May\, come let Rabbi Shush bless you.
DTSTART;TZID=America/New_York:20250524T100000
DTEND;TZID=America/New_York:20250524T120000
END:VEVENT
END:VCALENDAR
